BEGIN:VCALENDAR
VERSION:2.0
PRODID:-//Plone.org//NONSGML plone.app.event//EN
X-WR-TIMEZONE:America/Sao_Paulo
BEGIN:VEVENT
SUMMARY:Provas do Revalida em [ Auditorio Nobre do CAD 1 Auditorio 1A do C
 AD 1 Auditorio 2A do CAD 1 Outros espacos]
DTSTART;TZID=America/Sao_Paulo;VALUE=DATE-TIME:20250322T120000
DTEND;TZID=America/Sao_Paulo;VALUE=DATE-TIME:20250323T210000
DTSTAMP;VALUE=DATE-TIME:20260419T115915Z
UID:70e9501757a944eca247dfb80143651e@150.164.76.86:8080
CREATED;VALUE=DATE-TIME:20250128T124551Z
DESCRIPTION:<p><span>Aplicação das provas do Revalida</span></p>
LAST-MODIFIED;VALUE=DATE-TIME:20250128T124613Z
URL:http://150.164.76.86:8080/cac/agenda/17532140838258165166
END:VEVENT
BEGIN:VTIMEZONE
TZID:America/Sao_Paulo
X-LIC-LOCATION:America/Sao_Paulo
BEGIN:STANDARD
DTSTART;VALUE=DATE-TIME:20250215T230000
TZNAME:BRT
TZOFFSETFROM:-0200
TZOFFSETTO:-0300
END:STANDARD
END:VTIMEZONE
END:VCALENDAR
