BEGIN:VCALENDAR
VERSION:2.0
PRODID:-//Plone.org//NONSGML plone.app.event//EN
X-WR-TIMEZONE:America/Sao_Paulo
BEGIN:VEVENT
SUMMARY:Piquinique entre os amiguinhos da turma Beija-Flor (EMEI - Alaíde
  Lisboa) em [ Arena da praça de serviços Entorno da Praca de Servicos]
DTSTART;TZID=America/Sao_Paulo;VALUE=DATE-TIME:20231125T090000
DTEND;TZID=America/Sao_Paulo;VALUE=DATE-TIME:20231125T130000
DTSTAMP;VALUE=DATE-TIME:20260420T143256Z
UID:c10f28cf099e42949f5332ef158c3e30@150.164.76.86:8080
CREATED;VALUE=DATE-TIME:20231106T173818Z
DESCRIPTION:<p>Será um encontro (piquinique) entre amiguinhos da turma Be
 ija-Flor da EMEI Alaíde Lisboa para comemorar os 4 aninhos do Matheus. Es
 ses encontros no campus com a turminha sempre ocorrem\, alguns no gramado 
 próximo a EMEI\, outros no Bosque da Música... Porém\, como o mês de n
 ovembro sempre chove\, e a agenda do Picadeiro da Praça de Serviços não
  há nenhuma programação agendada para essa data\, solicito a liberaçã
 o do espaço para que todos (+- 20 crianças e +- 45 adultos - pais) possa
 m curtir a manhã juntos. Sendo o campus um local já conhecido e frenquen
 tado por todos durante a semana. Levaremos todos os itens necessários e c
 ontamos apenas com o espaço e a equipe de segurança normal do dia\, caso
  haja algum imprevisto. Obrigado!</p>
LAST-MODIFIED;VALUE=DATE-TIME:20231107T133628Z
URL:http://150.164.76.86:8080/cac/agenda/17513468387299169025
END:VEVENT
BEGIN:VTIMEZONE
TZID:America/Sao_Paulo
X-LIC-LOCATION:America/Sao_Paulo
BEGIN:DAYLIGHT
DTSTART;VALUE=DATE-TIME:20231015T010000
TZNAME:BRST
TZOFFSETFROM:-0300
TZOFFSETTO:-0200
END:DAYLIGHT
END:VTIMEZONE
END:VCALENDAR
