BEGIN:VCALENDAR
VERSION:2.0
PRODID:-//Plone.org//NONSGML plone.app.event//EN
X-WR-TIMEZONE:America/Sao_Paulo
BEGIN:VEVENT
SUMMARY:PRA Treinamento de Compradores em [ Auditório B106 do CAD3]
DTSTART;TZID=America/Sao_Paulo;VALUE=DATE-TIME:20230427T130000
DTEND;TZID=America/Sao_Paulo;VALUE=DATE-TIME:20230427T170000
DTSTAMP;VALUE=DATE-TIME:20260421T145723Z
UID:be14ca1a8c974b78844a6ad157169b45@150.164.76.86:8080
CREATED;VALUE=DATE-TIME:20230414T131808Z
DESCRIPTION:<p>Solicitação via whatsapp </p>
LAST-MODIFIED;VALUE=DATE-TIME:20230414T131952Z
URL:http://150.164.76.86:8080/cac/agenda/17510270587066065132
END:VEVENT
BEGIN:VTIMEZONE
TZID:America/Sao_Paulo
X-LIC-LOCATION:America/Sao_Paulo
BEGIN:STANDARD
DTSTART;VALUE=DATE-TIME:20230225T230000
TZNAME:BRT
TZOFFSETFROM:-0200
TZOFFSETTO:-0300
END:STANDARD
END:VTIMEZONE
END:VCALENDAR
