BEGIN:VCALENDAR
VERSION:2.0
PRODID:-//Plone.org//NONSGML plone.app.event//EN
X-WR-TIMEZONE:America/Sao_Paulo
BEGIN:VEVENT
SUMMARY:Reunião Conselho Universitário em [ Outros espacos]
DTSTART;TZID=America/Sao_Paulo;VALUE=DATE-TIME:20240924T140000
DTEND;TZID=America/Sao_Paulo;VALUE=DATE-TIME:20240924T180000
DTSTAMP;VALUE=DATE-TIME:20260419T205224Z
UID:c563c1c8f7144366aa0ede24b4deea5c@150.164.76.86:8080
CREATED;VALUE=DATE-TIME:20240918T105643Z
DESCRIPTION:<p>Gravação em áudio</p>
LAST-MODIFIED;VALUE=DATE-TIME:20240918T110510Z
URL:http://150.164.76.86:8080/cac/agenda/17506414633524118024
END:VEVENT
BEGIN:VTIMEZONE
TZID:America/Sao_Paulo
X-LIC-LOCATION:America/Sao_Paulo
BEGIN:STANDARD
DTSTART;VALUE=DATE-TIME:20240217T230000
TZNAME:BRT
TZOFFSETFROM:-0200
TZOFFSETTO:-0300
END:STANDARD
END:VTIMEZONE
END:VCALENDAR
