BEGIN:VCALENDAR
VERSION:2.0
PRODID:-//Plone.org//NONSGML plone.app.event//EN
X-WR-TIMEZONE:America/Sao_Paulo
BEGIN:VEVENT
SUMMARY:Troca de Gestão - Engenharia Solidária em [ Auditorio A102 do Ca
 d 2]
DTSTART;TZID=America/Sao_Paulo;VALUE=DATE-TIME:20231207T080000
DTEND;TZID=America/Sao_Paulo;VALUE=DATE-TIME:20231207T210000
DTSTAMP;VALUE=DATE-TIME:20260420T114856Z
UID:7eca321700634de2bab0c43ec46b431d@150.164.76.86:8080
CREATED;VALUE=DATE-TIME:20230904T130823Z
DESCRIPTION:<p>Neste evento ocorre a troca de chaves da nossa antiga gest
 ão para a nova coordenação da Engenharia Solidária. Há também a rece
 pção dos novos membros da nossa iniciativa\, que foram aprovados no Proc
 esso Seletivo\, bem como a despedida daqueles que optaram por não continu
 ar conosco por mais um semestre. Para isso\, gostaríamos de reservar um d
 os dois auditórios do CAD 2. Obrigado desde já! Atenciosamente\, Pedro L
 ucas Gonçalves de Sousa - Graduando de Engenharia de Controle e Automaç
 ão e conselheiro da Engenharia Solidária. OBS: Modo aula</p>\n<p>Obs: ma
 nhã para preparação/montagem</p>
LAST-MODIFIED;VALUE=DATE-TIME:20231031T191920Z
URL:http://150.164.76.86:8080/cac/agenda/17492487454534267065
END:VEVENT
BEGIN:VTIMEZONE
TZID:America/Sao_Paulo
X-LIC-LOCATION:America/Sao_Paulo
BEGIN:DAYLIGHT
DTSTART;VALUE=DATE-TIME:20231015T010000
TZNAME:BRST
TZOFFSETFROM:-0300
TZOFFSETTO:-0200
END:DAYLIGHT
END:VTIMEZONE
END:VCALENDAR
