BEGIN:VCALENDAR
VERSION:2.0
PRODID:-//Plone.org//NONSGML plone.app.event//EN
X-WR-TIMEZONE:America/Sao_Paulo
BEGIN:VEVENT
SUMMARY:Concurso Público para Professor Efetivo - Edital nº 2626\, de L
 íngua Portuguesa - Colégio Técnico em [ Auditorio 1A do CAD 1]
DTSTART;TZID=America/Sao_Paulo;VALUE=DATE-TIME:20250310T080000
DTEND;TZID=America/Sao_Paulo;VALUE=DATE-TIME:20250310T210000
DTSTAMP;VALUE=DATE-TIME:20260419T103641Z
UID:0d6f384f4c7642709c48197fb4e230da@150.164.76.86:8080
CREATED;VALUE=DATE-TIME:20250107T161119Z
DESCRIPTION:<p>Microfone\, mesa e cadeira para realizar as provas escritas
  e para a banca do concurso</p>
LAST-MODIFIED;VALUE=DATE-TIME:20250218T141859Z
URL:http://150.164.76.86:8080/cac/agenda/17479552226496485958
END:VEVENT
BEGIN:VTIMEZONE
TZID:America/Sao_Paulo
X-LIC-LOCATION:America/Sao_Paulo
BEGIN:STANDARD
DTSTART;VALUE=DATE-TIME:20250215T230000
TZNAME:BRT
TZOFFSETFROM:-0200
TZOFFSETTO:-0300
END:STANDARD
END:VTIMEZONE
END:VCALENDAR
