BEGIN:VCALENDAR
VERSION:2.0
PRODID:-//Plone.org//NONSGML plone.app.event//EN
X-WR-TIMEZONE:America/Sao_Paulo
BEGIN:VEVENT
SUMMARY:Quarta doze e Trinta em [ Arena da praça de serviços]
DTSTART;TZID=America/Sao_Paulo;VALUE=DATE-TIME:20230823T080000
DTEND;TZID=America/Sao_Paulo;VALUE=DATE-TIME:20230823T150000
DTSTAMP;VALUE=DATE-TIME:20260421T091549Z
UID:3c017554e5af453cbcdec128b5178457@150.164.76.86:8080
CREATED;VALUE=DATE-TIME:20221124T155111Z
DESCRIPTION:Quarta doze e trinta\, Equipamentos a definir. somente reserva
  do espaço.
LAST-MODIFIED;VALUE=DATE-TIME:20221129T145930Z
URL:http://150.164.76.86:8080/cac/agenda/17477959718580795109
END:VEVENT
BEGIN:VTIMEZONE
TZID:America/Sao_Paulo
X-LIC-LOCATION:America/Sao_Paulo
BEGIN:STANDARD
DTSTART;VALUE=DATE-TIME:20230225T230000
TZNAME:BRT
TZOFFSETFROM:-0200
TZOFFSETTO:-0300
END:STANDARD
END:VTIMEZONE
END:VCALENDAR
