BEGIN:VCALENDAR
VERSION:2.0
PRODID:-//Plone.org//NONSGML plone.app.event//EN
X-WR-TIMEZONE:America/Sao_Paulo
BEGIN:VEVENT
SUMMARY:Simpósio AAFAFICH: Gênero em Quadra em [ Auditorio A102 do Cad 2
 ]
DTSTART;TZID=America/Sao_Paulo;VALUE=DATE-TIME:20240928T080000
DTEND;TZID=America/Sao_Paulo;VALUE=DATE-TIME:20240928T140000
DTSTAMP;VALUE=DATE-TIME:20260419T205525Z
UID:60bee91011d8492c9595fea0dfd85e97@150.164.76.86:8080
CREATED;VALUE=DATE-TIME:20240905T173940Z
DESCRIPTION:<p>Seminário desenvolvido pela Associação Atlética da Fafi
 ch para debater as relações entre esporte e gênero no Brasil. O evento 
 tem como objetivo explorar as intersecções entre gênero e esportes\, pr
 omovendo um ambiente esportivo inclusivo e igualitário. A programação c
 ontará com três mesas de debates\, cada uma composta por 3 a 4 participa
 ntes\, incluindo atletas profissionais\, acadêmicos de referência e enti
 dades da UFMG.</p>
LAST-MODIFIED;VALUE=DATE-TIME:20240917T183301Z
URL:http://150.164.76.86:8080/cac/agenda/17477372017185422179
END:VEVENT
BEGIN:VTIMEZONE
TZID:America/Sao_Paulo
X-LIC-LOCATION:America/Sao_Paulo
BEGIN:STANDARD
DTSTART;VALUE=DATE-TIME:20240217T230000
TZNAME:BRT
TZOFFSETFROM:-0200
TZOFFSETTO:-0300
END:STANDARD
END:VTIMEZONE
END:VCALENDAR
