BEGIN:VCALENDAR
VERSION:2.0
PRODID:-//Plone.org//NONSGML plone.app.event//EN
X-WR-TIMEZONE:America/Sao_Paulo
BEGIN:VEVENT
SUMMARY:Troca de gestão - Mult Jr em [ Auditório B107 do CAD3]
DTSTART;TZID=America/Sao_Paulo;VALUE=DATE-TIME:20231215T160000
DTEND;TZID=America/Sao_Paulo;VALUE=DATE-TIME:20231215T210000
DTSTAMP;VALUE=DATE-TIME:20260420T114558Z
UID:9ca37b42e3e949a0b7b090520a99142d@150.164.76.86:8080
CREATED;VALUE=DATE-TIME:20231125T013634Z
DESCRIPTION:<p>O evento marca a troca de diretorias da empresa júnior de 
 Engenharia Química\, Mult Jr. Para que o evento ocorra de forma plena\, p
 recisamos de acesso à cozinha para lanchar alguns minutos antes de começ
 ar\, materiais para projetar slides\, e dois a três microfones. Após a a
 presentação dos resultados da empresa\, entregamos alguns brindes e nos 
 retiramos do laboratório.</p>
LAST-MODIFIED;VALUE=DATE-TIME:20231204T171349Z
URL:http://150.164.76.86:8080/cac/agenda/17454045976108758246
END:VEVENT
BEGIN:VTIMEZONE
TZID:America/Sao_Paulo
X-LIC-LOCATION:America/Sao_Paulo
BEGIN:DAYLIGHT
DTSTART;VALUE=DATE-TIME:20231015T010000
TZNAME:BRST
TZOFFSETFROM:-0300
TZOFFSETTO:-0200
END:DAYLIGHT
END:VTIMEZONE
END:VCALENDAR
