BEGIN:VCALENDAR
VERSION:2.0
PRODID:-//Plone.org//NONSGML plone.app.event//EN
X-WR-TIMEZONE:America/Sao_Paulo
BEGIN:VEVENT
SUMMARY:Recepção de Estudantes 2 Semestre de 2023 - Tenda VIVER UFMG em 
 [ Outros espacos]
DTSTART;TZID=America/Sao_Paulo;VALUE=DATE-TIME:20230809T080000
DTEND;TZID=America/Sao_Paulo;VALUE=DATE-TIME:20230828T110000
DTSTAMP;VALUE=DATE-TIME:20260421T075256Z
UID:10f857a70f1e4b8f88e30de1599c96fa@150.164.76.86:8080
CREATED;VALUE=DATE-TIME:20230710T175635Z
DESCRIPTION:Será montada no Centro da Praça de Serviços\, a  Tenda VIVE
 R UFMG \n\nque será uma estrutura piramidal medindo 8M X 8M = 64M2.\n\nA 
 Tenda VIVER UFMG servirá de ponto de referência e de encontro para Recep
 ção dos Estudantes no 2 Semestre de 2023\n\nsendo montada no dia 09 de A
 gosto de 2023 e desmontada no dia 28 de Agosto de 2023.\n\nSerá um espaç
 o para troca de informações entre a equipe PRAE e os/as Estudantes que p
 assarem \n\npelo local no período de vigência  da Instalação.\n\nNo es
 paço esperamos receber em torno de 150 pessoas diariamente e funcionará 
 de 8:30 da Manhã até 8h da noite.
LAST-MODIFIED;VALUE=DATE-TIME:20230710T175946Z
URL:http://150.164.76.86:8080/cac/agenda/17414182280920882423
END:VEVENT
BEGIN:VTIMEZONE
TZID:America/Sao_Paulo
X-LIC-LOCATION:America/Sao_Paulo
BEGIN:STANDARD
DTSTART;VALUE=DATE-TIME:20230225T230000
TZNAME:BRT
TZOFFSETFROM:-0200
TZOFFSETTO:-0300
END:STANDARD
END:VTIMEZONE
END:VCALENDAR
