BEGIN:VCALENDAR
VERSION:2.0
PRODID:-//Plone.org//NONSGML plone.app.event//EN
X-WR-TIMEZONE:America/Sao_Paulo
BEGIN:VEVENT
SUMMARY:Comemoração dos 10 anos de Criação das Formações Transversai
 sna UFMG: uma universidade aberta a relações coletivas\, diálogos inter
 mundos e justiça epistêmica. em [ Auditorio A102 do Cad 2 Auditorio A104
  do Cad 2]
DTSTART;TZID=America/Sao_Paulo;VALUE=DATE-TIME:20241003T070000
DTEND;TZID=America/Sao_Paulo;VALUE=DATE-TIME:20241004T220000
DTSTAMP;VALUE=DATE-TIME:20260419T191926Z
UID:21fe3b88951a4883a209172aca6ffd6d@150.164.76.86:8080
CREATED;VALUE=DATE-TIME:20240311T170309Z
DESCRIPTION:<p>Reserva para montagem do saguão\, bloqueando acesso aos au
 ditórios</p>
LAST-MODIFIED;VALUE=DATE-TIME:20240918T201145Z
URL:http://150.164.76.86:8080/cac/agenda/17408804575931057986
END:VEVENT
BEGIN:VTIMEZONE
TZID:America/Sao_Paulo
X-LIC-LOCATION:America/Sao_Paulo
BEGIN:STANDARD
DTSTART;VALUE=DATE-TIME:20240217T230000
TZNAME:BRT
TZOFFSETFROM:-0200
TZOFFSETTO:-0300
END:STANDARD
END:VTIMEZONE
END:VCALENDAR
