BEGIN:VCALENDAR
VERSION:2.0
PRODID:-//Plone.org//NONSGML plone.app.event//EN
X-WR-TIMEZONE:America/Sao_Paulo
BEGIN:VEVENT
SUMMARY:Formatura da turma CVN-FIEI-FAE em [ Auditorio Nobre do CAD 1]
DTSTART;TZID=America/Sao_Paulo;VALUE=DATE-TIME:20230911T090000
DTEND;TZID=America/Sao_Paulo;VALUE=DATE-TIME:20230911T120000
DTSTAMP;VALUE=DATE-TIME:20260421T080459Z
UID:bd61e4d1ec3748a9854eedb5d14465dc@150.164.76.86:8080
CREATED;VALUE=DATE-TIME:20230414T120816Z
DESCRIPTION:<p>Colação de grau da turma de Ciências da Vida e da Nature
 za do curso de Formação Intercultural para Educadores Indígenas - FIEI.
 </p>
LAST-MODIFIED;VALUE=DATE-TIME:20230823T172438Z
URL:http://150.164.76.86:8080/cac/agenda/17392243511832452241
END:VEVENT
BEGIN:VTIMEZONE
TZID:America/Sao_Paulo
X-LIC-LOCATION:America/Sao_Paulo
BEGIN:STANDARD
DTSTART;VALUE=DATE-TIME:20230225T230000
TZNAME:BRT
TZOFFSETFROM:-0200
TZOFFSETTO:-0300
END:STANDARD
END:VTIMEZONE
END:VCALENDAR
