BEGIN:VCALENDAR
VERSION:2.0
PRODID:-//Plone.org//NONSGML plone.app.event//EN
X-WR-TIMEZONE:America/Sao_Paulo
BEGIN:VEVENT
SUMMARY:Feira da UFMG - Aqui tem Agroecologia e Economia Popular Solidári
 a em [ Entorno da Praca de Servicos]
DTSTART;TZID=America/Sao_Paulo;VALUE=DATE-TIME:20241218T080000
DTEND;TZID=America/Sao_Paulo;VALUE=DATE-TIME:20241218T180000
DTSTAMP;VALUE=DATE-TIME:20260419T164407Z
UID:60ba7d589d854c32ae9279847b4b8adc@150.164.76.86:8080
CREATED;VALUE=DATE-TIME:20241128T182228Z
DESCRIPTION:Não serão necessários equipamentos ou serviços adicionais.
LAST-MODIFIED;VALUE=DATE-TIME:20241129T132428Z
URL:http://150.164.76.86:8080/cac/agenda/17383987040224419982
END:VEVENT
BEGIN:VTIMEZONE
TZID:America/Sao_Paulo
X-LIC-LOCATION:America/Sao_Paulo
BEGIN:DAYLIGHT
DTSTART;VALUE=DATE-TIME:20241020T010000
TZNAME:BRST
TZOFFSETFROM:-0300
TZOFFSETTO:-0200
END:DAYLIGHT
END:VTIMEZONE
END:VCALENDAR
