BEGIN:VCALENDAR
VERSION:2.0
PRODID:-//Plone.org//NONSGML plone.app.event//EN
X-WR-TIMEZONE:America/Sao_Paulo
BEGIN:VEVENT
SUMMARY:CONCURSO EXÉRCITO ESA em [ Auditório B101/102 do CAD 3 Auditóri
 o B106 do CAD3 Auditório B107 do CAD3]
DTSTART;TZID=America/Sao_Paulo;VALUE=DATE-TIME:20240914T080000
DTEND;TZID=America/Sao_Paulo;VALUE=DATE-TIME:20240915T220000
DTSTAMP;VALUE=DATE-TIME:20260419T205703Z
UID:9c49e65eb1fa4d51b865cb15a4ca4d0c@150.164.76.86:8080
CREATED;VALUE=DATE-TIME:20240415T182136Z
DESCRIPTION:<p>Pré-reserva</p>
LAST-MODIFIED;VALUE=DATE-TIME:20240527T141600Z
URL:http://150.164.76.86:8080/cac/agenda/17366300204153578881
END:VEVENT
BEGIN:VTIMEZONE
TZID:America/Sao_Paulo
X-LIC-LOCATION:America/Sao_Paulo
BEGIN:STANDARD
DTSTART;VALUE=DATE-TIME:20240217T230000
TZNAME:BRT
TZOFFSETFROM:-0200
TZOFFSETTO:-0300
END:STANDARD
END:VTIMEZONE
END:VCALENDAR
