BEGIN:VCALENDAR
VERSION:2.0
PRODID:-//Plone.org//NONSGML plone.app.event//EN
X-WR-TIMEZONE:America/Sao_Paulo
BEGIN:VEVENT
SUMMARY:9o Encontro do INCT de Nanomateriais de Carbono em [ Auditório B1
 01/102 do CAD 3]
DTSTART;TZID=America/Sao_Paulo;VALUE=DATE-TIME:20240910T080000
DTEND;TZID=America/Sao_Paulo;VALUE=DATE-TIME:20240913T180000
DTSTAMP;VALUE=DATE-TIME:20260419T205647Z
UID:6614a622110f437ea838aec0315c281b@150.164.76.86:8080
CREATED;VALUE=DATE-TIME:20240219T224755Z
DESCRIPTION:<p>Esse evento será o 9o Encontro do Instituto Nacional de Ci
 ência e Tecnologia (INCT) de Nanomateriais de Carbono. O INCT é atualmen
 te coordenador pelo Prof. Leandro Malard Moreira e Prof. Marcos Assunção
  Pimenta\, ambos do Dep. de Física da UFMG. Para esse evento é necessár
 io a junção dos auditórios 101 e 102 do CAD3\, removendo a divisória c
 entral. Dessa maneira teremos um espaço para acolher os 250 participantes
  previstos para o evento. Além disso gostariamos de utilizar area de cozi
 nha para realização do ˜coffe break˜\, e saguão da area externa do CA
 D3 para fixar posters para apresentação dos estudantes. Serão necessár
 ios equipamentos de audio visual. A programação será composta por pales
 tras de 30 minutos de membros do INCT sobre suas pesquisas em nanomateriai
 s de carbono. Além serão realizas apresentação de posters pelos estuda
 ntes do INCT. Quaisquer dúvidas ou maiores informações estou a disposi
 ção. Atenciosamente\, Leandro Malard.</p>
LAST-MODIFIED;VALUE=DATE-TIME:20240227T182928Z
URL:http://150.164.76.86:8080/cac/agenda/17355092351587512506
END:VEVENT
BEGIN:VTIMEZONE
TZID:America/Sao_Paulo
X-LIC-LOCATION:America/Sao_Paulo
BEGIN:STANDARD
DTSTART;VALUE=DATE-TIME:20240217T230000
TZNAME:BRT
TZOFFSETFROM:-0200
TZOFFSETTO:-0300
END:STANDARD
END:VTIMEZONE
END:VCALENDAR
