BEGIN:VCALENDAR
VERSION:2.0
PRODID:-//Plone.org//NONSGML plone.app.event//EN
X-WR-TIMEZONE:America/Sao_Paulo
BEGIN:VEVENT
SUMMARY:2º Ciclo de Debates do APUBH em [ Auditório B106 do CAD3]
DTSTART;TZID=America/Sao_Paulo;VALUE=DATE-TIME:20250521T130000
DTEND;TZID=America/Sao_Paulo;VALUE=DATE-TIME:20250521T180000
DTSTAMP;VALUE=DATE-TIME:20260419T091026Z
UID:e70afff6398f4f21b97f06ff8daab716@150.164.76.86:8080
CREATED;VALUE=DATE-TIME:20250411T173645Z
DESCRIPTION:Necessário infraestrutura para audiovisual\, microfone e inte
 rnet cabeada.
LAST-MODIFIED;VALUE=DATE-TIME:20250505T201516Z
URL:http://150.164.76.86:8080/cac/agenda/17352766544056005010
END:VEVENT
BEGIN:VTIMEZONE
TZID:America/Sao_Paulo
X-LIC-LOCATION:America/Sao_Paulo
BEGIN:STANDARD
DTSTART;VALUE=DATE-TIME:20250215T230000
TZNAME:BRT
TZOFFSETFROM:-0200
TZOFFSETTO:-0300
END:STANDARD
END:VTIMEZONE
END:VCALENDAR
