BEGIN:VCALENDAR
VERSION:2.0
PRODID:-//Plone.org//NONSGML plone.app.event//EN
X-WR-TIMEZONE:America/Sao_Paulo
BEGIN:VEVENT
SUMMARY:Quarta doze e Trinta em [ Arena da praça de serviços]
DTSTART;TZID=America/Sao_Paulo;VALUE=DATE-TIME:20231122T080000
DTEND;TZID=America/Sao_Paulo;VALUE=DATE-TIME:20231122T150000
DTSTAMP;VALUE=DATE-TIME:20260420T130413Z
UID:5eb9192370e6492cb1198bd53cd77f2e@150.164.76.86:8080
CREATED;VALUE=DATE-TIME:20221124T163722Z
DESCRIPTION:Quarta doze e trinta. Somente reserva de espaço\, equipamento
 s a definir.
LAST-MODIFIED;VALUE=DATE-TIME:20221129T151235Z
URL:http://150.164.76.86:8080/cac/agenda/1734182043933327897
END:VEVENT
BEGIN:VTIMEZONE
TZID:America/Sao_Paulo
X-LIC-LOCATION:America/Sao_Paulo
BEGIN:DAYLIGHT
DTSTART;VALUE=DATE-TIME:20231015T010000
TZNAME:BRST
TZOFFSETFROM:-0300
TZOFFSETTO:-0200
END:DAYLIGHT
END:VTIMEZONE
END:VCALENDAR
