BEGIN:VCALENDAR
VERSION:2.0
PRODID:-//Plone.org//NONSGML plone.app.event//EN
X-WR-TIMEZONE:America/Sao_Paulo
BEGIN:VEVENT
SUMMARY:Visita técnica CEDECOM E COPI em [ Auditorio da Reitoria]
DTSTART;TZID=America/Sao_Paulo;VALUE=DATE-TIME:20231009T080000
DTEND;TZID=America/Sao_Paulo;VALUE=DATE-TIME:20231009T110000
DTSTAMP;VALUE=DATE-TIME:20260421T015708Z
UID:0811025ea7d84c3cb90e488c4d577e45@150.164.76.86:8080
CREATED;VALUE=DATE-TIME:20230920T172812Z
DESCRIPTION:<p>Precisaremos apenas de um computador para apresentação em
  PPT</p>
LAST-MODIFIED;VALUE=DATE-TIME:20230920T174407Z
URL:http://150.164.76.86:8080/cac/agenda/1732633836475236032
END:VEVENT
BEGIN:VTIMEZONE
TZID:America/Sao_Paulo
X-LIC-LOCATION:America/Sao_Paulo
BEGIN:STANDARD
DTSTART;VALUE=DATE-TIME:20230225T230000
TZNAME:BRT
TZOFFSETFROM:-0200
TZOFFSETTO:-0300
END:STANDARD
END:VTIMEZONE
END:VCALENDAR
