BEGIN:VCALENDAR
VERSION:2.0
PRODID:-//Plone.org//NONSGML plone.app.event//EN
X-WR-TIMEZONE:America/Sao_Paulo
BEGIN:VEVENT
SUMMARY:Mostra SUA UFMG em [ Auditorio da Reitoria Saguao da Reitoria Gram
 ado da Reitoria Arena da praça de serviços Entorno da Praca de Servicos 
 Auditorio Nobre do CAD 1 Auditorio 1A do CAD 1 Auditorio 2A do CAD 1 Audit
 orio A102 do Cad 2 Auditorio A104 do Cad 2 Auditório B101/102 do CAD 3 Au
 ditório B301 do CAD 3 Auditório B302 do CAD 3 Auditório B106 do CAD3 Au
 ditório B107 do CAD3 Outros espacos]
DTSTART;TZID=America/Sao_Paulo;VALUE=DATE-TIME:20230520T000000
DTEND;TZID=America/Sao_Paulo;VALUE=DATE-TIME:20230520T230000
DTSTAMP;VALUE=DATE-TIME:20260421T133803Z
UID:a1cb7ddbdc7c4e63b7063b54750f1023@150.164.76.86:8080
CREATED;VALUE=DATE-TIME:20221110T132644Z
DESCRIPTION:<p>Mostra SUA UFMG - 20/05</p>\n<p>Montagem - 18 e 19/05</p>
LAST-MODIFIED;VALUE=DATE-TIME:20230111T201118Z
URL:http://150.164.76.86:8080/cac/agenda/17305422936737784073
END:VEVENT
BEGIN:VTIMEZONE
TZID:America/Sao_Paulo
X-LIC-LOCATION:America/Sao_Paulo
BEGIN:STANDARD
DTSTART;VALUE=DATE-TIME:20230225T230000
TZNAME:BRT
TZOFFSETFROM:-0200
TZOFFSETTO:-0300
END:STANDARD
END:VTIMEZONE
END:VCALENDAR
