BEGIN:VCALENDAR
VERSION:2.0
PRODID:-//Plone.org//NONSGML plone.app.event//EN
X-WR-TIMEZONE:America/Sao_Paulo
BEGIN:VEVENT
SUMMARY:Colação de grau EEFFTO/UFMG em [ Auditorio Nobre do CAD 1]
DTSTART;TZID=America/Sao_Paulo;VALUE=DATE-TIME:20230202T083000
DTEND;TZID=America/Sao_Paulo;VALUE=DATE-TIME:20230202T123000
DTSTAMP;VALUE=DATE-TIME:20260421T163336Z
UID:7e4593a807254c53a38af5220830cb6b@150.164.76.86:8080
CREATED;VALUE=DATE-TIME:20221116T125202Z
DESCRIPTION:Mesa com 10 cadeiras\nBandeiras\nSuporte audiovisual.
LAST-MODIFIED;VALUE=DATE-TIME:20221121T212258Z
URL:http://150.164.76.86:8080/cac/agenda/1728753738010022573
END:VEVENT
BEGIN:VTIMEZONE
TZID:America/Sao_Paulo
X-LIC-LOCATION:America/Sao_Paulo
BEGIN:DAYLIGHT
DTSTART;VALUE=DATE-TIME:20221016T010000
TZNAME:BRST
TZOFFSETFROM:-0300
TZOFFSETTO:-0200
END:DAYLIGHT
END:VTIMEZONE
END:VCALENDAR
