BEGIN:VCALENDAR
VERSION:2.0
PRODID:-//Plone.org//NONSGML plone.app.event//EN
X-WR-TIMEZONE:America/Sao_Paulo
BEGIN:VEVENT
SUMMARY:Reunião Prograd: Créditos nas Formações Tranversais por ativid
 ades do tipo Evento\, Projeto etc. em [ Outros espacos]
DTSTART;TZID=America/Sao_Paulo;VALUE=DATE-TIME:20220620T150000
DTEND;TZID=America/Sao_Paulo;VALUE=DATE-TIME:20220620T170000
DTSTAMP;VALUE=DATE-TIME:20260422T064747Z
UID:670a9ec7daca4a8fbb24624560402652@150.164.76.86:8080
CREATED;VALUE=DATE-TIME:20220613T191127Z
DESCRIPTION:Microfone de mesa e avulso\, projeção\, transmissão online\
 , se possível\, para  pessoas de outros campi/Unidades\, mesa para 5 pess
 oas e água.
LAST-MODIFIED;VALUE=DATE-TIME:20220614T193303Z
URL:http://150.164.76.86:8080/cac/agenda/17280908110428782128
END:VEVENT
BEGIN:VTIMEZONE
TZID:America/Sao_Paulo
X-LIC-LOCATION:America/Sao_Paulo
BEGIN:STANDARD
DTSTART;VALUE=DATE-TIME:20220219T230000
TZNAME:BRT
TZOFFSETFROM:-0200
TZOFFSETTO:-0300
END:STANDARD
END:VTIMEZONE
END:VCALENDAR
