BEGIN:VCALENDAR
VERSION:2.0
PRODID:-//Plone.org//NONSGML plone.app.event//EN
X-WR-TIMEZONE:America/Sao_Paulo
BEGIN:VEVENT
SUMMARY:Torneio Brasileiro de Física em [ Auditório B106 do CAD3]
DTSTART;TZID=America/Sao_Paulo;VALUE=DATE-TIME:20241209T080000
DTEND;TZID=America/Sao_Paulo;VALUE=DATE-TIME:20241209T200000
DTSTAMP;VALUE=DATE-TIME:20260419T163754Z
UID:3e80e86359c4448fa6b47fade80c576e@150.164.76.86:8080
CREATED;VALUE=DATE-TIME:20241021T152304Z
DESCRIPTION:<p><span>Os equipamentos já existentes nos auditórios do CAD
  são suficiente\, como projetores\, microfones e quadros. No dia 10/12/20
 24\, auditório B106 está reservado pela manhã\, mas parece que B101 ou 
 B102 está livre no mesmo horário\, então gostaria de reservar um desses
 \, para ter dois auditórios no CAD3 para o torneio de Física se possíve
 l. Resumindo gostaria de 2 auditórios no CAD3 independente de quais\, nas
  seguintes datas: 09/12/24 de 13:00 às 20:00\; 10/12/24 de 08:00 às 20:0
 0\; 11/12/24 de 08:00 às 14:00\; e somente um auditório no dia 12/12/24 
 de 08:00 às 14:00. Tentei enviar o pedido com o B106\, mas gerou o confli
 to que expliquei acima e não sei se o pedido foi enviado. Vou enviar o pe
 dido novamente sem o B106\, e vou entrar em contato. Grato desde já\, Ubi
 rajara Agero.</span></p>
LAST-MODIFIED;VALUE=DATE-TIME:20241021T153431Z
URL:http://150.164.76.86:8080/cac/agenda/17279649516852135572
END:VEVENT
BEGIN:VTIMEZONE
TZID:America/Sao_Paulo
X-LIC-LOCATION:America/Sao_Paulo
BEGIN:DAYLIGHT
DTSTART;VALUE=DATE-TIME:20241020T010000
TZNAME:BRST
TZOFFSETFROM:-0300
TZOFFSETTO:-0200
END:DAYLIGHT
END:VTIMEZONE
END:VCALENDAR
