BEGIN:VCALENDAR
VERSION:2.0
PRODID:-//Plone.org//NONSGML plone.app.event//EN
X-WR-TIMEZONE:America/Sao_Paulo
BEGIN:VEVENT
SUMMARY:Reunião PRORH/TAEs em [ Auditorio da Reitoria]
DTSTART;TZID=America/Sao_Paulo;VALUE=DATE-TIME:20220110T070000
DTEND;TZID=America/Sao_Paulo;VALUE=DATE-TIME:20220112T210000
DTSTAMP;VALUE=DATE-TIME:20260422T124935Z
UID:a138eccb92fe4df19a991ec9416c685b@150.164.76.86:8080
CREATED;VALUE=DATE-TIME:20220106T203140Z
DESCRIPTION:<p>Reunião com servidores TAE do setor de compras</p>
LAST-MODIFIED;VALUE=DATE-TIME:20220106T203252Z
URL:http://150.164.76.86:8080/cac/agenda/1724361384983323499
END:VEVENT
BEGIN:VTIMEZONE
TZID:America/Sao_Paulo
X-LIC-LOCATION:America/Sao_Paulo
BEGIN:DAYLIGHT
DTSTART;VALUE=DATE-TIME:20211017T010000
TZNAME:BRST
TZOFFSETFROM:-0300
TZOFFSETTO:-0200
END:DAYLIGHT
END:VTIMEZONE
END:VCALENDAR
