BEGIN:VCALENDAR
VERSION:2.0
PRODID:-//Plone.org//NONSGML plone.app.event//EN
X-WR-TIMEZONE:America/Sao_Paulo
BEGIN:VEVENT
SUMMARY:Escola de História das Ciências em [ Auditorio A104 do Cad 2]
DTSTART;TZID=America/Sao_Paulo;VALUE=DATE-TIME:20220725T080000
DTEND;TZID=America/Sao_Paulo;VALUE=DATE-TIME:20220728T180000
DTSTAMP;VALUE=DATE-TIME:20260422T044801Z
UID:a96b7de05f2844feaf647715e8564e54@150.164.76.86:8080
CREATED;VALUE=DATE-TIME:20220519T131335Z
DESCRIPTION:<p>Escola de Inverno em História das Ciências. Necessários 
 recursos de datashow e som. Evento ocorre entre os dias 25/07 a 28/7\, das
  8h-18h\, com mesas\, conferências\, minicursos e workshops.</p>
LAST-MODIFIED;VALUE=DATE-TIME:20220629T132941Z
URL:http://150.164.76.86:8080/cac/agenda/17238448012186185124
END:VEVENT
BEGIN:VTIMEZONE
TZID:America/Sao_Paulo
X-LIC-LOCATION:America/Sao_Paulo
BEGIN:STANDARD
DTSTART;VALUE=DATE-TIME:20220219T230000
TZNAME:BRT
TZOFFSETFROM:-0200
TZOFFSETTO:-0300
END:STANDARD
END:VTIMEZONE
END:VCALENDAR
