BEGIN:VCALENDAR
VERSION:2.0
PRODID:-//Plone.org//NONSGML plone.app.event//EN
X-WR-TIMEZONE:America/Sao_Paulo
BEGIN:VEVENT
SUMMARY:Mercado das Pulgas em [ Entorno da Praca de Servicos Arena da pra
 ça de serviços]
DTSTART;TZID=America/Sao_Paulo;VALUE=DATE-TIME:20221005T090000
DTEND;TZID=America/Sao_Paulo;VALUE=DATE-TIME:20221007T160000
DTSTAMP;VALUE=DATE-TIME:20260421T221850Z
UID:958a025e5eec446c9327c706f88784f3@150.164.76.86:8080
CREATED;VALUE=DATE-TIME:20220708T153724Z
DESCRIPTION:<p>50 painéis</p>
LAST-MODIFIED;VALUE=DATE-TIME:20220812T164019Z
URL:http://150.164.76.86:8080/cac/agenda/17235343981556104686
END:VEVENT
BEGIN:VTIMEZONE
TZID:America/Sao_Paulo
X-LIC-LOCATION:America/Sao_Paulo
BEGIN:STANDARD
DTSTART;VALUE=DATE-TIME:20220219T230000
TZNAME:BRT
TZOFFSETFROM:-0200
TZOFFSETTO:-0300
END:STANDARD
END:VTIMEZONE
END:VCALENDAR
