BEGIN:VCALENDAR
VERSION:2.0
PRODID:-//Plone.org//NONSGML plone.app.event//EN
X-WR-TIMEZONE:America/Sao_Paulo
BEGIN:VEVENT
SUMMARY:Grande  conferência -  Catedrática professora Silvia Pfeiffer em
  [ Auditorio A104 do Cad 2]
DTSTART;TZID=America/Sao_Paulo;VALUE=DATE-TIME:20250321T080000
DTEND;TZID=America/Sao_Paulo;VALUE=DATE-TIME:20250321T120000
DTSTAMP;VALUE=DATE-TIME:20260419T120327Z
UID:85c0bb34e9ff44e1804e65eee0829d9d@150.164.76.86:8080
CREATED;VALUE=DATE-TIME:20250210T133007Z
DESCRIPTION:Grande Conferência (IEAT) com a catedrática Sílvia Maria Ma
 rtins Melo Pfeifer \nIntitulada:  “Diversidade linguística e cultural n
 as escolas alemãs e brasileiras: Nativespeakerism e micro-agressões ling
 uísticas em uma perspectiva\ntransdisciplinar”
LAST-MODIFIED;VALUE=DATE-TIME:20250210T145734Z
URL:http://150.164.76.86:8080/cac/agenda/17234478401327279317
END:VEVENT
BEGIN:VTIMEZONE
TZID:America/Sao_Paulo
X-LIC-LOCATION:America/Sao_Paulo
BEGIN:STANDARD
DTSTART;VALUE=DATE-TIME:20250215T230000
TZNAME:BRT
TZOFFSETFROM:-0200
TZOFFSETTO:-0300
END:STANDARD
END:VTIMEZONE
END:VCALENDAR
