BEGIN:VCALENDAR
VERSION:2.0
PRODID:-//Plone.org//NONSGML plone.app.event//EN
X-WR-TIMEZONE:America/Sao_Paulo
BEGIN:VEVENT
SUMMARY:Encontro de Mobilidade em [ Auditorio A104 do Cad 2]
DTSTART;TZID=America/Sao_Paulo;VALUE=DATE-TIME:20231024T080000
DTEND;TZID=America/Sao_Paulo;VALUE=DATE-TIME:20231025T180000
DTSTAMP;VALUE=DATE-TIME:20260420T231021Z
UID:a942a05f7452450dadd26a56ded57fae@150.164.76.86:8080
CREATED;VALUE=DATE-TIME:20221222T171622Z
DESCRIPTION:<p>O IV Fórum Internacional de Acolhimento e Internacionaliza
 ção da UFMG é um evento anual promovido pera DRI/UFMG com o objetivo de
  reunir trabalhos de discentes e docentes que tratam do processo de intern
 acionalização da universidade nas diversas áreas do conhecimento.</p>\n
 <p>25/08/2023&gt\;Título substituído para "Encontro de Mobilidade" por s
 olicitação da DRI.</p>
LAST-MODIFIED;VALUE=DATE-TIME:20230913T132016Z
URL:http://150.164.76.86:8080/cac/agenda/17223529621869046771
END:VEVENT
BEGIN:VTIMEZONE
TZID:America/Sao_Paulo
X-LIC-LOCATION:America/Sao_Paulo
BEGIN:DAYLIGHT
DTSTART;VALUE=DATE-TIME:20231015T010000
TZNAME:BRST
TZOFFSETFROM:-0300
TZOFFSETTO:-0200
END:DAYLIGHT
END:VTIMEZONE
END:VCALENDAR
