BEGIN:VCALENDAR
VERSION:2.0
PRODID:-//Plone.org//NONSGML plone.app.event//EN
X-WR-TIMEZONE:America/Sao_Paulo
BEGIN:VEVENT
SUMMARY:Tópicos em Sociologia em [ Auditorio A104 do Cad 2]
DTSTART;TZID=America/Sao_Paulo;VALUE=DATE-TIME:20230922T130000
DTEND;TZID=America/Sao_Paulo;VALUE=DATE-TIME:20230922T180000
DTSTAMP;VALUE=DATE-TIME:20260421T075308Z
UID:6401592fbcea4cfb98c989a792e2103e@150.164.76.86:8080
CREATED;VALUE=DATE-TIME:20230710T113926Z
DESCRIPTION:<p>Disciplina "Tópicos em Sociologia" para turmas do 3º dos 
 cursos integrados do Colégio Técnico (COLTEC) com um público estimado d
 e 130 estudantes. OBS: modo aula</p>
LAST-MODIFIED;VALUE=DATE-TIME:20230710T144009Z
URL:http://150.164.76.86:8080/cac/agenda/17221356064451471203
END:VEVENT
BEGIN:VTIMEZONE
TZID:America/Sao_Paulo
X-LIC-LOCATION:America/Sao_Paulo
BEGIN:STANDARD
DTSTART;VALUE=DATE-TIME:20230225T230000
TZNAME:BRT
TZOFFSETFROM:-0200
TZOFFSETTO:-0300
END:STANDARD
END:VTIMEZONE
END:VCALENDAR
