BEGIN:VCALENDAR
VERSION:2.0
PRODID:-//Plone.org//NONSGML plone.app.event//EN
X-WR-TIMEZONE:America/Sao_Paulo
BEGIN:VEVENT
SUMMARY:Assembleia Sindical Geral da UFMG em [ Auditorio A102 do Cad 2]
DTSTART;TZID=America/Sao_Paulo;VALUE=DATE-TIME:20231121T093000
DTEND;TZID=America/Sao_Paulo;VALUE=DATE-TIME:20231121T123000
DTSTAMP;VALUE=DATE-TIME:20260420T130902Z
UID:f22285991dd14cbfa034188fb4b3d500@150.164.76.86:8080
CREATED;VALUE=DATE-TIME:20231114T194134Z
DESCRIPTION:<p>Assembleia Sindical Geral da UFMG\, UFVJM\, CEFET e IFMG</p
 >
LAST-MODIFIED;VALUE=DATE-TIME:20231116T122658Z
URL:http://150.164.76.86:8080/cac/agenda/17208057098727603283
END:VEVENT
BEGIN:VTIMEZONE
TZID:America/Sao_Paulo
X-LIC-LOCATION:America/Sao_Paulo
BEGIN:DAYLIGHT
DTSTART;VALUE=DATE-TIME:20231015T010000
TZNAME:BRST
TZOFFSETFROM:-0300
TZOFFSETTO:-0200
END:DAYLIGHT
END:VTIMEZONE
END:VCALENDAR
