BEGIN:VCALENDAR
VERSION:2.0
PRODID:-//Plone.org//NONSGML plone.app.event//EN
X-WR-TIMEZONE:America/Sao_Paulo
BEGIN:VEVENT
SUMMARY:Cerimônia de Colação de Grau da Faculdade de Letras em [ Audito
 rio Nobre do CAD 1]
DTSTART;TZID=America/Sao_Paulo;VALUE=DATE-TIME:20200828T170000
DTEND;TZID=America/Sao_Paulo;VALUE=DATE-TIME:20200828T220000
DTSTAMP;VALUE=DATE-TIME:20260424T200327Z
UID:3f5d0108085f40b9b0f005b86eb7f46f@150.164.76.86:8080
CREATED;VALUE=DATE-TIME:20200305T200640Z
DESCRIPTION:Cerimônia da Faculdade de Letras 2020/1. Será utilizada toda
  multimídia do local.
LAST-MODIFIED;VALUE=DATE-TIME:20200311T135058Z
URL:http://150.164.76.86:8080/cac/agenda/17197035349756874193
END:VEVENT
BEGIN:VTIMEZONE
TZID:America/Sao_Paulo
X-LIC-LOCATION:America/Sao_Paulo
BEGIN:STANDARD
DTSTART;VALUE=DATE-TIME:20200215T230000
TZNAME:BRT
TZOFFSETFROM:-0200
TZOFFSETTO:-0300
END:STANDARD
END:VTIMEZONE
END:VCALENDAR
