BEGIN:VCALENDAR
VERSION:2.0
PRODID:-//Plone.org//NONSGML plone.app.event//EN
X-WR-TIMEZONE:America/Sao_Paulo
BEGIN:VEVENT
SUMMARY:III Congresso Latino Americano de Toxicologia em [ Auditorio Nobre
  do CAD 1 Auditorio da Reitoria]
DTSTART;TZID=America/Sao_Paulo;VALUE=DATE-TIME:20230926T080000
DTEND;TZID=America/Sao_Paulo;VALUE=DATE-TIME:20231002T180000
DTSTAMP;VALUE=DATE-TIME:20260420T130819Z
UID:8e00abc738004284acd3bd1dc485a9c5@150.164.76.86:8080
CREATED;VALUE=DATE-TIME:20221221T160523Z
DESCRIPTION:<p>Equipamento audio visual</p>
LAST-MODIFIED;VALUE=DATE-TIME:20230901T143328Z
URL:http://150.164.76.86:8080/cac/agenda/17192691109799028544
END:VEVENT
BEGIN:VTIMEZONE
TZID:America/Sao_Paulo
X-LIC-LOCATION:America/Sao_Paulo
BEGIN:STANDARD
DTSTART;VALUE=DATE-TIME:20230225T230000
TZNAME:BRT
TZOFFSETFROM:-0200
TZOFFSETTO:-0300
END:STANDARD
END:VTIMEZONE
END:VCALENDAR
