BEGIN:VCALENDAR
VERSION:2.0
PRODID:-//Plone.org//NONSGML plone.app.event//EN
X-WR-TIMEZONE:America/Sao_Paulo
BEGIN:VEVENT
SUMMARY:Concurso Técnico em Libras UFMG em [ Auditorio Nobre do CAD 1 Out
 ros espacos]
DTSTART;TZID=America/Sao_Paulo;VALUE=DATE-TIME:20240511T070000
DTEND;TZID=America/Sao_Paulo;VALUE=DATE-TIME:20240512T210000
DTSTAMP;VALUE=DATE-TIME:20260420T031246Z
UID:e027cda66bd64b4fb582ced89e8e63ee@150.164.76.86:8080
CREATED;VALUE=DATE-TIME:20240219T194724Z
DESCRIPTION:<p>concurso público</p>
LAST-MODIFIED;VALUE=DATE-TIME:20240219T194752Z
URL:http://150.164.76.86:8080/cac/agenda/1717294965167337636
END:VEVENT
BEGIN:VTIMEZONE
TZID:America/Sao_Paulo
X-LIC-LOCATION:America/Sao_Paulo
BEGIN:STANDARD
DTSTART;VALUE=DATE-TIME:20240217T230000
TZNAME:BRT
TZOFFSETFROM:-0200
TZOFFSETTO:-0300
END:STANDARD
END:VTIMEZONE
END:VCALENDAR
