BEGIN:VCALENDAR
VERSION:2.0
PRODID:-//Plone.org//NONSGML plone.app.event//EN
X-WR-TIMEZONE:America/Sao_Paulo
BEGIN:VEVENT
SUMMARY:aula para a medicina em [ Auditorio Nobre do CAD 1]
DTSTART;TZID=America/Sao_Paulo;VALUE=DATE-TIME:20220218T080000
DTEND;TZID=America/Sao_Paulo;VALUE=DATE-TIME:20220218T120000
DTSTAMP;VALUE=DATE-TIME:20260422T111747Z
UID:4de4742058aa424fb9384b068bb0ee20@150.164.76.86:8080
CREATED;VALUE=DATE-TIME:20211105T174041Z
DESCRIPTION:<p> </p>\n<div>Prezado Rubens\, boa tarde. Tudo bem?</div>\n<
 div></div>\n<div>Gostaria de verificar com você a possibilidade de agenda
 r um auditório do CAD para o dia 18/02/2022. Nessa data será ministrada 
 uma aula para a medicina com um total de 160 alunos.</div>\n<div></div>\n<
 p><span>Cordialmente\,<br />Bárbara Murta<br />Secretaria do Colegiado de
  Coordenação Didática (CCODI)<br />CEGRAD -  ICB / UFMG</span></p>\n<
 p> </p>\n<div>Na verdade a data é 18/02\, das 08:00 às 12h.</div>\n<p>
  </p>\n<p> </p>
LAST-MODIFIED;VALUE=DATE-TIME:20211108T185547Z
URL:http://150.164.76.86:8080/cac/agenda/17169170964024359552
END:VEVENT
BEGIN:VTIMEZONE
TZID:America/Sao_Paulo
X-LIC-LOCATION:America/Sao_Paulo
BEGIN:DAYLIGHT
DTSTART;VALUE=DATE-TIME:20211017T010000
TZNAME:BRST
TZOFFSETFROM:-0300
TZOFFSETTO:-0200
END:DAYLIGHT
END:VTIMEZONE
END:VCALENDAR
