BEGIN:VCALENDAR
VERSION:2.0
PRODID:-//Plone.org//NONSGML plone.app.event//EN
X-WR-TIMEZONE:America/Sao_Paulo
BEGIN:VEVENT
SUMMARY:Reunião com Coordenadores de Cursos de Graduação -  Apresentaç
 ão do Plano de Trabalho para Gestão 2022-2026 em [ Auditorio da Reitoria
 ]
DTSTART;TZID=America/Sao_Paulo;VALUE=DATE-TIME:20220601T140000
DTEND;TZID=America/Sao_Paulo;VALUE=DATE-TIME:20220601T170000
DTSTAMP;VALUE=DATE-TIME:20260422T050949Z
UID:992f0fc2f6134a78b88218c6b75a3008@150.164.76.86:8080
CREATED;VALUE=DATE-TIME:20220429T130142Z
DESCRIPTION:<p>Microfone de mesa e avulso.</p>
LAST-MODIFIED;VALUE=DATE-TIME:20220504T135523Z
URL:http://150.164.76.86:8080/cac/agenda/17157797544120826654
END:VEVENT
BEGIN:VTIMEZONE
TZID:America/Sao_Paulo
X-LIC-LOCATION:America/Sao_Paulo
BEGIN:STANDARD
DTSTART;VALUE=DATE-TIME:20220219T230000
TZNAME:BRT
TZOFFSETFROM:-0200
TZOFFSETTO:-0300
END:STANDARD
END:VTIMEZONE
END:VCALENDAR
