BEGIN:VCALENDAR
VERSION:2.0
PRODID:-//Plone.org//NONSGML plone.app.event//EN
X-WR-TIMEZONE:America/Sao_Paulo
BEGIN:VEVENT
SUMMARY:Cerimonia de concessão do titulo de Professor Emérito em [ Audit
 orio da Reitoria]
DTSTART;TZID=America/Sao_Paulo;VALUE=DATE-TIME:20230704T160000
DTEND;TZID=America/Sao_Paulo;VALUE=DATE-TIME:20230704T210000
DTSTAMP;VALUE=DATE-TIME:20260421T091452Z
UID:4d350df2762c48b08d33de3715cf349b@150.164.76.86:8080
CREATED;VALUE=DATE-TIME:20230327T192821Z
DESCRIPTION:<p>Cerimonia para concessão do título de Professor emérito 
 ao Prof Sérgio Danilo Pena- professor aposentado do ICB. O título será 
 concedido pela Reitora</p>
LAST-MODIFIED;VALUE=DATE-TIME:20230404T130213Z
URL:http://150.164.76.86:8080/cac/agenda/17146008752308122823
END:VEVENT
BEGIN:VTIMEZONE
TZID:America/Sao_Paulo
X-LIC-LOCATION:America/Sao_Paulo
BEGIN:STANDARD
DTSTART;VALUE=DATE-TIME:20230225T230000
TZNAME:BRT
TZOFFSETFROM:-0200
TZOFFSETTO:-0300
END:STANDARD
END:VTIMEZONE
END:VCALENDAR
