BEGIN:VCALENDAR
VERSION:2.0
PRODID:-//Plone.org//NONSGML plone.app.event//EN
X-WR-TIMEZONE:America/Sao_Paulo
BEGIN:VEVENT
SUMMARY:25ª UFMG Jovem em [ Auditorio da Reitoria Auditorio Nobre do CAD 
 1 Auditorio A102 do Cad 2 Auditorio A104 do Cad 2 Auditório B101/102 do C
 AD 3 Auditório B106 do CAD3 Auditório B107 do CAD3]
DTSTART;TZID=America/Sao_Paulo;VALUE=DATE-TIME:20240918T070000
DTEND;TZID=America/Sao_Paulo;VALUE=DATE-TIME:20240920T220000
DTSTAMP;VALUE=DATE-TIME:20260419T205723Z
UID:859b932d37d447a093e42025e920fca2@150.164.76.86:8080
CREATED;VALUE=DATE-TIME:20231106T132716Z
DESCRIPTION:<p>UFMG Jovem</p>\n<p>Outros espaços:</p>\n<p><span><span>Hal
 l do primeiro andar em frente à copa<br />Espaço da copa<br />Hall do p
 rimeiro andar (em frente aos auditórios B106 e B107)<br />Hall do terceir
 o andar em frente aos auditórios B301 e B302</span></span></p>
LAST-MODIFIED;VALUE=DATE-TIME:20240610T130644Z
URL:http://150.164.76.86:8080/cac/agenda/17139061860309660404
END:VEVENT
BEGIN:VTIMEZONE
TZID:America/Sao_Paulo
X-LIC-LOCATION:America/Sao_Paulo
BEGIN:STANDARD
DTSTART;VALUE=DATE-TIME:20240217T230000
TZNAME:BRT
TZOFFSETFROM:-0200
TZOFFSETTO:-0300
END:STANDARD
END:VTIMEZONE
END:VCALENDAR
