BEGIN:VCALENDAR
VERSION:2.0
PRODID:-//Plone.org//NONSGML plone.app.event//EN
X-WR-TIMEZONE:America/Sao_Paulo
BEGIN:VEVENT
SUMMARY:COMEMORAÇÃO 30 ANOS SINDIFES  em [ Auditorio da Reitoria]
DTSTART;TZID=America/Sao_Paulo;VALUE=DATE-TIME:20221031T170000
DTEND;TZID=America/Sao_Paulo;VALUE=DATE-TIME:20221031T210000
DTSTAMP;VALUE=DATE-TIME:20260421T235100Z
UID:c97fc81de63343479b4cb9082e5f3945@150.164.76.86:8080
CREATED;VALUE=DATE-TIME:20220909T175203Z
DESCRIPTION:<p>Evento SINDIFES</p>
LAST-MODIFIED;VALUE=DATE-TIME:20221019T190038Z
URL:http://150.164.76.86:8080/cac/agenda/17138969878755397152
END:VEVENT
BEGIN:VTIMEZONE
TZID:America/Sao_Paulo
X-LIC-LOCATION:America/Sao_Paulo
BEGIN:DAYLIGHT
DTSTART;VALUE=DATE-TIME:20221016T010000
TZNAME:BRST
TZOFFSETFROM:-0300
TZOFFSETTO:-0200
END:DAYLIGHT
END:VTIMEZONE
END:VCALENDAR
