BEGIN:VCALENDAR
VERSION:2.0
PRODID:-//Plone.org//NONSGML plone.app.event//EN
X-WR-TIMEZONE:America/Sao_Paulo
BEGIN:VEVENT
SUMMARY:II Conferência Nacional da Pedagogia da Alternância do Brasil e 
 IV Seminário Internacional da Pedagogia da Alternância em [ Auditorio A1
 04 do Cad 2]
DTSTART;TZID=America/Sao_Paulo;VALUE=DATE-TIME:20250204T140000
DTEND;TZID=America/Sao_Paulo;VALUE=DATE-TIME:20250207T210000
DTSTAMP;VALUE=DATE-TIME:20260419T115942Z
UID:c3d732a41cad4450944731c33433ed2e@150.164.76.86:8080
CREATED;VALUE=DATE-TIME:20241108T175740Z
DESCRIPTION:<p>O evento é organizado pelo Licenciatura em Educação do C
 ampo (Lecampo) e pelo Núcleo de Estudos e Pesquisas em Educação do Camp
 o (Nepcampo)\, coletivos da Faculdade de Educação da UFMG que\, há mais
  de 20 anos\, se dedicam a ações de ensino\, pesquisa\, extensão e form
 ação junto a populações rurais e a movimentos sociais e ações coleti
 vas ligadas à luta contra violação do direito à terra. Recentemente\, 
 recebemos da Secretaria de Educação Continuada\, Alfabetização de Jove
 ns e Adultos\, Diversidade e Inclusão (Secadi)\, do MEC\, o desafio de re
 alizar\, na UFMG\, a "II Conferência Nacional da Pedagogia da Alternânci
 a do Brasil e IV Seminário Internacional da Pedagogia da Alternância"\, 
 com um recurso de R$ 500.000\,00. O Seminário tem como objetivo principal
  promover a qualificação de mais de 150 professores e professoras que at
 uam em escolas rurais das cinco regiões do país\, sendo o recurso\, em s
 ua quase integralidade\, gasto com transporte\, hospedagem e alimentação
  para esses/as professores/as\, sem qualquer previsão de bolsas ou outros
  auxílios para os/as professores/as de nossa Universidade atuantes no pro
 jeto. Trata-se\, então\, de uma importante ação político-educacional p
 ara os povos do campo do Brasil\, além de uma atividade que expressa o pr
 otagonismo da UFMG no cenário nacional. O evento seria realizado entre os
  dias 19 e 22 de novembro\, nas dependências da Faculdade de Educação. 
 Contudo\, por problemas na tramitação do TED\, adiamos o evento para os 
 dias 4 a 7 de fevereiro de 2024. Com isso\, o evento não poderá ser real
 izado na FAE\, dado que as obras serão iniciadas na Unidade em 2025. Ser
 ão necessários: projetor\, microfones e uso de espaço para transmissão
  das atividades pelo canal do YouTube da Faculdade de Educação. A progra
 mação do evento pode ser consultada em: https://unefab.org/conpab/</p>
LAST-MODIFIED;VALUE=DATE-TIME:20250128T192003Z
URL:http://150.164.76.86:8080/cac/agenda/17123902876165012525
END:VEVENT
BEGIN:VTIMEZONE
TZID:America/Sao_Paulo
X-LIC-LOCATION:America/Sao_Paulo
BEGIN:DAYLIGHT
DTSTART;VALUE=DATE-TIME:20241020T010000
TZNAME:BRST
TZOFFSETFROM:-0300
TZOFFSETTO:-0200
END:DAYLIGHT
END:VTIMEZONE
END:VCALENDAR
