BEGIN:VCALENDAR
VERSION:2.0
PRODID:-//Plone.org//NONSGML plone.app.event//EN
X-WR-TIMEZONE:America/Sao_Paulo
BEGIN:VEVENT
SUMMARY:1º JORNADA DO PROGRAMA UFMG DE FORMAÇÃO CIDADÃ E DEFESA DA DEM
 OCRACIA em [ Auditorio da Reitoria]
DTSTART;TZID=America/Sao_Paulo;VALUE=DATE-TIME:20230427T130000
DTEND;TZID=America/Sao_Paulo;VALUE=DATE-TIME:20230428T160000
DTSTAMP;VALUE=DATE-TIME:20260421T150024Z
UID:e374aa523272439b8985ca0f19e0088a@150.164.76.86:8080
CREATED;VALUE=DATE-TIME:20230414T124546Z
DESCRIPTION:<p>Evento: Jornada UFMG de formação cidadã e defesa da demo
 cracia 27 de Abril às 14h | Apresentação de projetos 28 de Abril às 9h
  | Apresentação de projetos 28 de Abril às 15h | Encerramento da Jornad
 a com a Reitora + Ministra Rosa Weber Natureza do evento: Acadêmico + Ins
 titucional Na segunda\, envio email com detalhamento final.</p>
LAST-MODIFIED;VALUE=DATE-TIME:20230420T153158Z
URL:http://150.164.76.86:8080/cac/agenda/17105420705609533820
END:VEVENT
BEGIN:VTIMEZONE
TZID:America/Sao_Paulo
X-LIC-LOCATION:America/Sao_Paulo
BEGIN:STANDARD
DTSTART;VALUE=DATE-TIME:20230225T230000
TZNAME:BRT
TZOFFSETFROM:-0200
TZOFFSETTO:-0300
END:STANDARD
END:VTIMEZONE
END:VCALENDAR
