BEGIN:VCALENDAR
VERSION:2.0
PRODID:-//Plone.org//NONSGML plone.app.event//EN
X-WR-TIMEZONE:America/Sao_Paulo
BEGIN:VEVENT
SUMMARY:III CIRCUITO MINEIRO DE ESPECIALIDADES VETERINARIAS em [ Auditorio
  Nobre do CAD 1]
DTSTART;TZID=America/Sao_Paulo;VALUE=DATE-TIME:20200806T090000
DTEND;TZID=America/Sao_Paulo;VALUE=DATE-TIME:20200808T180000
DTSTAMP;VALUE=DATE-TIME:20260424T195020Z
UID:f89da39bf8dd45999513cadb20d0ebc5@150.164.76.86:8080
CREATED;VALUE=DATE-TIME:20191217T202932Z
DESCRIPTION:SIMPOSIO COM OBJETIVO DE EDUCAÇÃO CONTINUADA E INTEGRAÇÃO 
 NACIONAL DE ALUNOS DE VARIOS ESTADOS NA AREA DE MEDICINA VETERINARIA.\n\nM
 ICROFONES\nRETROPROGETOR\nCAIXAS DE SOM\nBANDEIRAS\nPESSOAL
LAST-MODIFIED;VALUE=DATE-TIME:20191219T181058Z
URL:http://150.164.76.86:8080/cac/agenda/17104372051180816618
END:VEVENT
BEGIN:VTIMEZONE
TZID:America/Sao_Paulo
X-LIC-LOCATION:America/Sao_Paulo
BEGIN:STANDARD
DTSTART;VALUE=DATE-TIME:20200215T230000
TZNAME:BRT
TZOFFSETFROM:-0200
TZOFFSETTO:-0300
END:STANDARD
END:VTIMEZONE
END:VCALENDAR
