BEGIN:VCALENDAR
VERSION:2.0
PRODID:-//Plone.org//NONSGML plone.app.event//EN
X-WR-TIMEZONE:America/Sao_Paulo
BEGIN:VEVENT
SUMMARY:CAPACIDADE EXCEDIDA em [ Saguao da Reitoria Auditorio da Reitoria 
 Gramado da Reitoria Entorno da Praca de Servicos Auditorio 1A do CAD 1 Aud
 itorio 2A do CAD 1 Auditorio A102 do Cad 2 Auditorio A104 do Cad 2 Arena d
 a praça de serviços Auditório B302 do CAD 3 Auditório B101/102 do CAD 
 3 Auditório B301 do CAD 3]
DTSTART;TZID=America/Sao_Paulo;VALUE=DATE-TIME:20201003T000000
DTEND;TZID=America/Sao_Paulo;VALUE=DATE-TIME:20201003T230000
DTSTAMP;VALUE=DATE-TIME:20260424T172000Z
UID:cbd0423811dc45ac98d4fc810f1167f9@150.164.76.86:8080
CREATED;VALUE=DATE-TIME:20200219T151945Z
DESCRIPTION:<p>.</p>
LAST-MODIFIED;VALUE=DATE-TIME:20230111T201107Z
URL:http://150.164.76.86:8080/cac/agenda/17099244507566095804
END:VEVENT
BEGIN:VTIMEZONE
TZID:America/Sao_Paulo
X-LIC-LOCATION:America/Sao_Paulo
BEGIN:STANDARD
DTSTART;VALUE=DATE-TIME:20200215T230000
TZNAME:BRT
TZOFFSETFROM:-0200
TZOFFSETTO:-0300
END:STANDARD
END:VTIMEZONE
END:VCALENDAR
