BEGIN:VCALENDAR
VERSION:2.0
PRODID:-//Plone.org//NONSGML plone.app.event//EN
X-WR-TIMEZONE:America/Sao_Paulo
BEGIN:VEVENT
SUMMARY:Formatura do Curso de Letras - 2024/1 em [ Auditorio Nobre do CAD 
 1]
DTSTART;TZID=America/Sao_Paulo;VALUE=DATE-TIME:20241007T150000
DTEND;TZID=America/Sao_Paulo;VALUE=DATE-TIME:20241007T210000
DTSTAMP;VALUE=DATE-TIME:20260419T192945Z
UID:0fd52170143e431f99fbbb59d9fb797e@150.164.76.86:8080
CREATED;VALUE=DATE-TIME:20240730T200133Z
DESCRIPTION:Cerimonia oficial do curso de letras - 2024/1\nTelão\nmesa\np
 úlbito\ntoalha \ncadeiras\nwi-fi\ne demais equipamentos do auditório par
 a cerimonia.
LAST-MODIFIED;VALUE=DATE-TIME:20240730T200432Z
URL:http://150.164.76.86:8080/cac/agenda/17097514101162729076
END:VEVENT
BEGIN:VTIMEZONE
TZID:America/Sao_Paulo
X-LIC-LOCATION:America/Sao_Paulo
BEGIN:STANDARD
DTSTART;VALUE=DATE-TIME:20240217T230000
TZNAME:BRT
TZOFFSETFROM:-0200
TZOFFSETTO:-0300
END:STANDARD
END:VTIMEZONE
END:VCALENDAR
