BEGIN:VCALENDAR
VERSION:2.0
PRODID:-//Plone.org//NONSGML plone.app.event//EN
X-WR-TIMEZONE:America/Sao_Paulo
BEGIN:VEVENT
SUMMARY:REUNIÃO REITORIA PRORH CPPD DEPARTAMENTOS em [ Auditorio Nobre do
  CAD 1]
DTSTART;TZID=America/Sao_Paulo;VALUE=DATE-TIME:20220913T140000
DTEND;TZID=America/Sao_Paulo;VALUE=DATE-TIME:20220913T180000
DTSTAMP;VALUE=DATE-TIME:20260422T012701Z
UID:f987f2b65f34435792333fc18f116f4c@150.164.76.86:8080
CREATED;VALUE=DATE-TIME:20220802T173328Z
DESCRIPTION:<p>Reunião de trabalho organizada pela CPPD e PRORH\, contand
 o com a presença da Reitora da UFMG\, pró-reitores acadêmicas\, diretor
 es de Unidade e Chefias de Departamentos. Recursos/equipamentos: data show
  e microfones. Água para a mesa coordenadora da reunião.</p>
LAST-MODIFIED;VALUE=DATE-TIME:20220822T202736Z
URL:http://150.164.76.86:8080/cac/agenda/17095472218490294233
END:VEVENT
BEGIN:VTIMEZONE
TZID:America/Sao_Paulo
X-LIC-LOCATION:America/Sao_Paulo
BEGIN:STANDARD
DTSTART;VALUE=DATE-TIME:20220219T230000
TZNAME:BRT
TZOFFSETFROM:-0200
TZOFFSETTO:-0300
END:STANDARD
END:VTIMEZONE
END:VCALENDAR
