BEGIN:VCALENDAR
VERSION:2.0
PRODID:-//Plone.org//NONSGML plone.app.event//EN
X-WR-TIMEZONE:America/Sao_Paulo
BEGIN:VEVENT
SUMMARY:Reunião Cedecom em [ Auditório B106 do CAD3]
DTSTART;TZID=America/Sao_Paulo;VALUE=DATE-TIME:20230509T110000
DTEND;TZID=America/Sao_Paulo;VALUE=DATE-TIME:20230509T130000
DTSTAMP;VALUE=DATE-TIME:20260421T115925Z
UID:46d681b9400043ff859c687a7f7e0aa9@150.164.76.86:8080
CREATED;VALUE=DATE-TIME:20230502T143138Z
DESCRIPTION:Reunião interna do Cedecom.
LAST-MODIFIED;VALUE=DATE-TIME:20230502T143212Z
URL:http://150.164.76.86:8080/cac/agenda/17020534589868187465
END:VEVENT
BEGIN:VTIMEZONE
TZID:America/Sao_Paulo
X-LIC-LOCATION:America/Sao_Paulo
BEGIN:STANDARD
DTSTART;VALUE=DATE-TIME:20230225T230000
TZNAME:BRT
TZOFFSETFROM:-0200
TZOFFSETTO:-0300
END:STANDARD
END:VTIMEZONE
END:VCALENDAR
