BEGIN:VCALENDAR
VERSION:2.0
PRODID:-//Plone.org//NONSGML plone.app.event//EN
X-WR-TIMEZONE:America/Sao_Paulo
BEGIN:VEVENT
SUMMARY:Pacto da ciência pela inovação em MG em [ Auditorio da Reitoria
 ]
DTSTART;TZID=America/Sao_Paulo;VALUE=DATE-TIME:20250317T090000
DTEND;TZID=America/Sao_Paulo;VALUE=DATE-TIME:20250317T200000
DTSTAMP;VALUE=DATE-TIME:20260419T120009Z
UID:3fbe5477a5d94e5f98a9775ebdce0cfb@150.164.76.86:8080
CREATED;VALUE=DATE-TIME:20241218T135540Z
DESCRIPTION:<p>Evento com a Reitora</p>
LAST-MODIFIED;VALUE=DATE-TIME:20250210T195100Z
URL:http://150.164.76.86:8080/cac/agenda/17015146833496803941
END:VEVENT
BEGIN:VTIMEZONE
TZID:America/Sao_Paulo
X-LIC-LOCATION:America/Sao_Paulo
BEGIN:STANDARD
DTSTART;VALUE=DATE-TIME:20250215T230000
TZNAME:BRT
TZOFFSETFROM:-0200
TZOFFSETTO:-0300
END:STANDARD
END:VTIMEZONE
END:VCALENDAR
