BEGIN:VCALENDAR
VERSION:2.0
PRODID:-//Plone.org//NONSGML plone.app.event//EN
X-WR-TIMEZONE:America/Sao_Paulo
BEGIN:VEVENT
SUMMARY:Ensaio Sarandeiros em [ Auditorio da Reitoria]
DTSTART;TZID=America/Sao_Paulo;VALUE=DATE-TIME:20220909T193000
DTEND;TZID=America/Sao_Paulo;VALUE=DATE-TIME:20220909T210000
DTSTAMP;VALUE=DATE-TIME:20260422T012714Z
UID:47363aeec8c94291acf237f6e5162fd9@150.164.76.86:8080
CREATED;VALUE=DATE-TIME:20220902T175038Z
DESCRIPTION:<p>ensaio</p>
LAST-MODIFIED;VALUE=DATE-TIME:20220902T175050Z
URL:http://150.164.76.86:8080/cac/agenda/17008444875051061884
END:VEVENT
BEGIN:VTIMEZONE
TZID:America/Sao_Paulo
X-LIC-LOCATION:America/Sao_Paulo
BEGIN:STANDARD
DTSTART;VALUE=DATE-TIME:20220219T230000
TZNAME:BRT
TZOFFSETFROM:-0200
TZOFFSETTO:-0300
END:STANDARD
END:VTIMEZONE
END:VCALENDAR
