BEGIN:VCALENDAR
VERSION:2.0
PRODID:-//Plone.org//NONSGML plone.app.event//EN
X-WR-TIMEZONE:America/Sao_Paulo
BEGIN:VEVENT
SUMMARY:ASSEMBLEIA DO SINDIFES em [ Auditorio da Reitoria]
DTSTART;TZID=America/Sao_Paulo;VALUE=DATE-TIME:20240527T080000
DTEND;TZID=America/Sao_Paulo;VALUE=DATE-TIME:20240527T130000
DTSTAMP;VALUE=DATE-TIME:20260420T042013Z
UID:4d20dc0aaab84674b85f2f9ecd8e9a70@150.164.76.86:8080
CREATED;VALUE=DATE-TIME:20240522T141939Z
DESCRIPTION:<p>ASSEMBLEIA DO SINDIFES</p>
LAST-MODIFIED;VALUE=DATE-TIME:20240522T142118Z
URL:http://150.164.76.86:8080/cac/agenda/16988796467126818923
END:VEVENT
BEGIN:VTIMEZONE
TZID:America/Sao_Paulo
X-LIC-LOCATION:America/Sao_Paulo
BEGIN:STANDARD
DTSTART;VALUE=DATE-TIME:20240217T230000
TZNAME:BRT
TZOFFSETFROM:-0200
TZOFFSETTO:-0300
END:STANDARD
END:VTIMEZONE
END:VCALENDAR
