BEGIN:VCALENDAR
VERSION:2.0
PRODID:-//Plone.org//NONSGML plone.app.event//EN
X-WR-TIMEZONE:America/Sao_Paulo
BEGIN:VEVENT
SUMMARY:Formação das comissões da CMEC em [ Auditório B107 do CAD3]
DTSTART;TZID=America/Sao_Paulo;VALUE=DATE-TIME:20240823T080000
DTEND;TZID=America/Sao_Paulo;VALUE=DATE-TIME:20240823T190000
DTSTAMP;VALUE=DATE-TIME:20260419T222857Z
UID:b6d030d0371042adaf53c4803cc7ca77@150.164.76.86:8080
CREATED;VALUE=DATE-TIME:20240710T174233Z
DESCRIPTION:<div>O curso acontecerá nos dias 21\, 22 e 23 de agosto de 20
 24\, das 9:00 às 18:00.</div>\n<div></div>\n<p dir="ltr" style="text-alig
 n: justify\; ">Necessitamos de um espaço para umas 100 pessoas. O curso d
 eve ser integralmente gravado (vídeo e áudio) e\, posteriormente editado
  pelo CAED\, para servir de material de formação contínua da CMEC. É n
 ecessário computador (1 para cada grupo de 03 pessoas) para o treinamento
  do sistema e-PAD\, no dia 22/08/2024.</p>\n<p><br style="text-align: just
 ify\; text-decoration-thickness: initial\; text-decoration-style: initial\
 ; text-decoration-color: initial\; " /><br /></p>
LAST-MODIFIED;VALUE=DATE-TIME:20240710T174325Z
URL:http://150.164.76.86:8080/cac/agenda/16980905640516713704
END:VEVENT
BEGIN:VTIMEZONE
TZID:America/Sao_Paulo
X-LIC-LOCATION:America/Sao_Paulo
BEGIN:STANDARD
DTSTART;VALUE=DATE-TIME:20240217T230000
TZNAME:BRT
TZOFFSETFROM:-0200
TZOFFSETTO:-0300
END:STANDARD
END:VTIMEZONE
END:VCALENDAR
