BEGIN:VCALENDAR
VERSION:2.0
PRODID:-//Plone.org//NONSGML plone.app.event//EN
X-WR-TIMEZONE:America/Sao_Paulo
BEGIN:VEVENT
SUMMARY:Abril Indígena - Mesa redonda : 10 anos de atuação e demarcaç
 ão do território indígena UFMG\, pelo futuro da permanência na Univer
 sidade. em [ Arena da praça de serviços]
DTSTART;TZID=America/Sao_Paulo;VALUE=DATE-TIME:20240411T180000
DTEND;TZID=America/Sao_Paulo;VALUE=DATE-TIME:20240411T213000
DTSTAMP;VALUE=DATE-TIME:20260420T044643Z
UID:38cffbc653b94bb0a5e0200309281526@150.164.76.86:8080
CREATED;VALUE=DATE-TIME:20240408T181352Z
DESCRIPTION:<p>Evento: Abril indígena Atividade: Mesa redonda : 10 anos d
 e atuação e demarcação do território indígena UFMG\, pelo futuro da 
 permanência na Universidade. Expecatativa de Público 150 pessoas Necess
 ário: Uma CAIXA DE SOM E MICROFONE</p>
LAST-MODIFIED;VALUE=DATE-TIME:20240408T191556Z
URL:http://150.164.76.86:8080/cac/agenda/16975235449546373132
END:VEVENT
BEGIN:VTIMEZONE
TZID:America/Sao_Paulo
X-LIC-LOCATION:America/Sao_Paulo
BEGIN:STANDARD
DTSTART;VALUE=DATE-TIME:20240217T230000
TZNAME:BRT
TZOFFSETFROM:-0200
TZOFFSETTO:-0300
END:STANDARD
END:VTIMEZONE
END:VCALENDAR
