BEGIN:VCALENDAR
VERSION:2.0
PRODID:-//Plone.org//NONSGML plone.app.event//EN
X-WR-TIMEZONE:America/Sao_Paulo
BEGIN:VEVENT
SUMMARY:Colação de Grau dos Formandos em Letras em [ Auditorio Nobre do 
 CAD 1]
DTSTART;TZID=America/Sao_Paulo;VALUE=DATE-TIME:20240404T140000
DTEND;TZID=America/Sao_Paulo;VALUE=DATE-TIME:20240404T210000
DTSTAMP;VALUE=DATE-TIME:20260420T044606Z
UID:15c4aba4efc9420a89260a483058c96e@150.164.76.86:8080
CREATED;VALUE=DATE-TIME:20231030T192342Z
DESCRIPTION:<p>Cerimônia de Colação de Grau dos formando em Letras 2023
 /2. A cerimônia será realizada pelo cerimonial da Faculdade de Letras\, 
 composta por servidores da Unidade. Toda equipe técnica será contratada\
 , seguindo as diretrizes da CAC.</p>
LAST-MODIFIED;VALUE=DATE-TIME:20240318T153225Z
URL:http://150.164.76.86:8080/cac/agenda/16971086743265666823
END:VEVENT
BEGIN:VTIMEZONE
TZID:America/Sao_Paulo
X-LIC-LOCATION:America/Sao_Paulo
BEGIN:STANDARD
DTSTART;VALUE=DATE-TIME:20240217T230000
TZNAME:BRT
TZOFFSETFROM:-0200
TZOFFSETTO:-0300
END:STANDARD
END:VTIMEZONE
END:VCALENDAR
